BEGIN:VCALENDAR
VERSION:2.0
PRODID:ics.py - http://git.io/lLljaA
BEGIN:VEVENT
DTSTART;VALUE=DATE:20231020
DTEND;VALUE=DATE:20231023
DESCRIPTION:Workshop für Rettungshunde-Facheinheiten\n\nTermin Link: https://www.lfv-bayern.de/termine/workshop-personensuchemantrail-2023/
LOCATION:Hochbrück
SUMMARY:Workshop „Personensuche/Mantrail  2023“
UID:984f3850-938c-4600-b1aa-029280fefb98@984f.org
END:VEVENT
END:VCALENDAR