BEGIN:VCALENDAR
VERSION:2.0
PRODID:ics.py - http://git.io/lLljaA
BEGIN:VEVENT
DTSTART;VALUE=DATE:20261202
DESCRIPTION:Unterstützungsangebot des StMI\n\nTermin Link: https://www.lfv-bayern.de/termine/workshop-interkulturelle-kompetenz-06/
LOCATION:Stadt Ansbach
SUMMARY:Workshop - Interkulturelle Kompetenz
UID:79c03aea-1a75-41ef-99a6-1172b683160a@79c0.org
END:VEVENT
END:VCALENDAR