BEGIN:VCALENDAR
VERSION:2.0
PRODID:ics.py - http://git.io/lLljaA
BEGIN:VEVENT
DTSTART;VALUE=DATE:20261114
DESCRIPTION:Unterstützungsangebot des StMI\n\nTermin Link: https://www.lfv-bayern.de/termine/workshop-interkulturelle-kompetenz-05/
LOCATION:LKr. Nürnberger Land
SUMMARY:Workshop - Interkulturelle Kompetenz
UID:3f768a6e-d68a-4297-88af-18b5d1e12b0f@3f76.org
END:VEVENT
END:VCALENDAR