BEGIN:VCALENDAR
VERSION:2.0
PRODID:ics.py - http://git.io/lLljaA
BEGIN:VEVENT
DTSTART;VALUE=DATE:20261113
DESCRIPTION:Unterstützungsangebot des StMI\n\nTermin Link: https://www.lfv-bayern.de/termine/workshop-interkulturelle-kompetenz-04/
LOCATION:LKr. Erding
SUMMARY:Workshop - Interkulturelle Kompetenz
UID:38b47bbb-ff3d-4867-a1f1-8af802ded838@38b4.org
END:VEVENT
END:VCALENDAR