BEGIN:VCALENDAR
VERSION:2.0
PRODID:ics.py - http://git.io/lLljaA
BEGIN:VEVENT
DTSTART;VALUE=DATE:20261031
DESCRIPTION:Unterstützungsangebot des StMI\n\nTermin Link: https://www.lfv-bayern.de/termine/workshop-interkulturelle-kompetenz-03/
LOCATION:Stadt Rosenheim
SUMMARY:Workshop - Interkulturelle Kompetenz
UID:7aaf1d76-26eb-4e52-82bc-947564172351@7aaf.org
END:VEVENT
END:VCALENDAR