BEGIN:VCALENDAR
VERSION:2.0
PRODID:ics.py - http://git.io/lLljaA
BEGIN:VEVENT
DTSTART;VALUE=DATE:20261017
DESCRIPTION:Unterstützungsangebot des StMI\n\nTermin Link: https://www.lfv-bayern.de/termine/workshop-interkulturelle-kompetenz-02/
LOCATION:LKr. Schwandorf
SUMMARY:Workshop - Interkulturelle Kompetenz
UID:63500df3-bafb-4aee-84c3-80eaf097dff6@6350.org
END:VEVENT
END:VCALENDAR