BEGIN:VCALENDAR
VERSION:2.0
PRODID:ics.py - http://git.io/lLljaA
BEGIN:VEVENT
DTSTART;VALUE=DATE:20261010
DESCRIPTION:Unterstützungsangebot des StMI\n\nTermin Link: https://www.lfv-bayern.de/termine/workshop-interkulturelle-kompetenz-01/
LOCATION:LKr. Neu-Ulm
SUMMARY:Workshop - Interkulturelle Kompetenz
UID:44a5bedf-c0a3-440a-9ece-53380f8aedea@44a5.org
END:VEVENT
END:VCALENDAR