BEGIN:VCALENDAR
VERSION:2.0
PRODID:ics.py - http://git.io/lLljaA
BEGIN:VEVENT
DTSTART;VALUE=DATE:20261211
DESCRIPTION:Unterstützungsangebot des StMI\n\nTermin Link: https://www.lfv-bayern.de/termine/workshop-fuhrung-im-ehrenamt-07/
LOCATION:Staatl. Feuerwehrschule Regensburg
SUMMARY:Workshop - Führung im Ehrenamt
UID:7336d037-45bb-41b7-bb72-1ca28fbd5ea2@7336.org
END:VEVENT
END:VCALENDAR