BEGIN:VCALENDAR
VERSION:2.0
PRODID:ics.py - http://git.io/lLljaA
BEGIN:VEVENT
DTSTART;VALUE=DATE:20261007
DESCRIPTION:Unterstützungsangebot des StMI\n\nTermin Link: https://www.lfv-bayern.de/termine/workshop-fuhrung-im-ehrenamt-06/
LOCATION:Stadt Hof
SUMMARY:Workshop - Führung im Ehrenamt
UID:5e94069b-10ff-4ecc-97af-0f760f2a2ecb@5e94.org
END:VEVENT
END:VCALENDAR