BEGIN:VCALENDAR
VERSION:2.0
PRODID:ics.py - http://git.io/lLljaA
BEGIN:VEVENT
DESCRIPTION:Unterstützungsangebot des StMI\n\nTermin Link: https://www.lfv-bayern.de/termine/workshop-fuhrung-im-ehrenamt-05/
DTEND:20260717T160000Z
LOCATION:Staatliche Feuerwehrschule Geretsried\n82538 Geretsried\, Deutschland
DTSTART:20260717T070000Z
SUMMARY:Workshop - Führung im Ehrenamt
UID:cd3718d9-921b-48f8-8c8a-90d6eae3c09f@cd37.org
END:VEVENT
END:VCALENDAR