BEGIN:VCALENDAR
VERSION:2.0
PRODID:ics.py - http://git.io/lLljaA
BEGIN:VEVENT
DTSTART;VALUE=DATE:20261127
DESCRIPTION:Unterstützungsangebot des StMI\n\nTermin Link: https://www.lfv-bayern.de/termine/workshop-fuhrung-im-ehrenamt-04/
LOCATION:Staatliche Feuerwehrschule Würzburg\n97082 Würzburg\, Deutschland
SUMMARY:Workshop - Führung im Ehrenamt
UID:d8b27c3d-b3d7-4635-bfc6-5cfdab34a149@d8b2.org
END:VEVENT
END:VCALENDAR