BEGIN:VCALENDAR
VERSION:2.0
PRODID:ics.py - http://git.io/lLljaA
BEGIN:VEVENT
DTSTART;VALUE=DATE:20261022
DESCRIPTION:Unterstützungsangebot des StMI\n\nTermin Link: https://www.lfv-bayern.de/termine/workshop-fuhrung-im-ehrenamt-03/
LOCATION:Stadt Landshut
SUMMARY:Workshop - Führung im Ehrenamt
UID:607a00f3-9cce-4325-a8c2-19a87ce8736b@607a.org
END:VEVENT
END:VCALENDAR