BEGIN:VCALENDAR
VERSION:2.0
PRODID:ics.py - http://git.io/lLljaA
BEGIN:VEVENT
DTSTART;VALUE=DATE:20261005
DESCRIPTION:Unterstützungsangebot des StMI\n\nTermin Link: https://www.lfv-bayern.de/termine/workshop-fuhrung-im-ehrenamt-02/
LOCATION:LKr. Günzburg
SUMMARY:Workshop - Führung im Ehrenamt
UID:02266dcf-bc47-4c79-bdc8-c80fc5113c7f@0226.org
END:VEVENT
END:VCALENDAR