BEGIN:VCALENDAR
VERSION:2.0
PRODID:ics.py - http://git.io/lLljaA
BEGIN:VEVENT
DTSTART;VALUE=DATE:20260509
DESCRIPTION:Unterstützungsangebot des StMI\n\nTermin Link: https://www.lfv-bayern.de/termine/workshop-fuhrung-im-ehrenamt-01/
LOCATION:LKr. Neustadt-Aisch
SUMMARY:Workshop - Führung im Ehrenamt
UID:f6d1bf98-7ebd-4120-87fa-bcd04002d6be@f6d1.org
END:VEVENT
END:VCALENDAR