BEGIN:VCALENDAR
VERSION:2.0
PRODID:ics.py - http://git.io/lLljaA
BEGIN:VEVENT
DESCRIPTION:Fortbildungsangebot des Landesnetzwerks Bürgerschaftliches Engagement Bayern e.V.\n\nTermin Link: https://www.lfv-bayern.de/termine/vereinsmythen-die-bekanntesten-thesen-vorurteile-und-irrtumer-uber-vereine/
DTEND:20240702T173000Z
LOCATION:online
DTSTART:20240702T160000Z
SUMMARY:Vereinsmythen - Die bekanntesten Thesen\, Vorurteile und Irrtümer über Vereine
UID:1a3f580f-4e77-411a-bf5d-385c843a7c2f@1a3f.org
END:VEVENT
END:VCALENDAR