BEGIN:VCALENDAR
VERSION:2.0
PRODID:ics.py - http://git.io/lLljaA
BEGIN:VEVENT
DTSTART;VALUE=DATE:20260507
DESCRIPTION:Fortbildung zur Psychosozialen Notfallversorgung durch die DFV-Stiftung „Hilfe für Helfer“ und das Bundesamt für Bevölkerungsschutz und Katastrophenhilfe\n\nTermin Link: https://www.lfv-bayern.de/termine/symposium-hilfe-fur-helfer-in-den-feuerwehren-2026/
LOCATION:Fulda
SUMMARY:Symposium „Hilfe für Helfer in den Feuerwehren“
UID:e10b3902-98d3-4dcf-bf6f-2b37e11c6de4@e10b.org
END:VEVENT
END:VCALENDAR