BEGIN:VCALENDAR
VERSION:2.0
PRODID:ics.py - http://git.io/lLljaA
BEGIN:VEVENT
DTSTART;VALUE=DATE:20240622
DESCRIPTION:Workshop zu Strategie\, Kommunikation und konkreter Umsetzung | Unterstützungsangebot des StMI\n\nTermin Link: https://www.lfv-bayern.de/termine/social-media-workshop-202407/
LOCATION:LKr. Würzburg
SUMMARY:Social Media Nutzung durch die Feuerwehren
UID:baa14895-abcb-4995-9319-a24b6f3d2f10@baa1.org
END:VEVENT
END:VCALENDAR