BEGIN:VCALENDAR
VERSION:2.0
PRODID:ics.py - http://git.io/lLljaA
BEGIN:VEVENT
DTSTART;VALUE=DATE:20261013
DESCRIPTION:Workshop zu Strategie\, Kommunikation und konkreter Umsetzung (Basis-Workshop) | Unterstützungsangebot des StMI\n\nTermin Link: https://www.lfv-bayern.de/termine/social-media-nutzung-durch-die-feuerwehren-basis-workshop-12/
LOCATION:Stadt Ansbach
SUMMARY:Social Media Nutzung durch die Feuerwehren - Basis-Workshop
UID:a99e8e73-f4cf-467a-bb68-8c6ee9c1a7fd@a99e.org
END:VEVENT
END:VCALENDAR