BEGIN:VCALENDAR
VERSION:2.0
PRODID:ics.py - http://git.io/lLljaA
BEGIN:VEVENT
DTSTART;VALUE=DATE:20260717
DESCRIPTION:Workshop zu Strategie\, Kommunikation und konkreter Umsetzung (Basis-Workshop) | Unterstützungsangebot des StMI\n\nTermin Link: https://www.lfv-bayern.de/termine/social-media-nutzung-durch-die-feuerwehren-basis-workshop-11/
LOCATION:LKr. Neu-Ulm
SUMMARY:Social Media Nutzung durch die Feuerwehren - Basis-Workshop
UID:32d906be-fa2a-4c1b-9b21-2391f33eca36@32d9.org
END:VEVENT
END:VCALENDAR