BEGIN:VCALENDAR
VERSION:2.0
PRODID:ics.py - http://git.io/lLljaA
BEGIN:VEVENT
DTSTART;VALUE=DATE:20260523
DESCRIPTION:Workshop zu Strategie\, Kommunikation und konkreter Umsetzung (Basis-Workshop) | Unterstützungsangebot des StMI\n\nTermin Link: https://www.lfv-bayern.de/termine/social-media-nutzung-durch-die-feuerwehren-basis-workshop-09/
LOCATION:LKr. Bad Kissingen
SUMMARY:Social Media Nutzung durch die Feuerwehren - Basis-Workshop
UID:8cc654da-3233-4991-b820-37200d2f4530@8cc6.org
END:VEVENT
END:VCALENDAR