BEGIN:VCALENDAR
VERSION:2.0
PRODID:ics.py - http://git.io/lLljaA
BEGIN:VEVENT
DTSTART;VALUE=DATE:20260508
DESCRIPTION:Workshop zu Strategie\, Kommunikation und konkreter Umsetzung (Basis-Workshop) | Unterstützungsangebot des StMI\n\nTermin Link: https://www.lfv-bayern.de/termine/social-media-nutzung-durch-die-feuerwehren-basis-workshop-08/
LOCATION:LKr. München
SUMMARY:Social Media Nutzung durch die Feuerwehren - Basis-Workshop
UID:672c19bc-1ea6-4da8-869f-ed6164e1bcb6@672c.org
END:VEVENT
END:VCALENDAR