BEGIN:VCALENDAR
VERSION:2.0
PRODID:ics.py - http://git.io/lLljaA
BEGIN:VEVENT
DTSTART;VALUE=DATE:20261009
DESCRIPTION:Workshop zu Strategie\, Kommunikation und konkreter Umsetzung (Basis-Workshop) | Unterstützungsangebot des StMI\n\nTermin Link: https://www.lfv-bayern.de/termine/social-media-nutzung-durch-die-feuerwehren-basis-workshop-06/
LOCATION:Stadt Landshut
SUMMARY:Social Media Nutzung durch die Feuerwehren - Basis-Workshop
UID:0f28312c-958a-46ba-be3e-433b09b2d0ef@0f28.org
END:VEVENT
END:VCALENDAR