BEGIN:VCALENDAR
VERSION:2.0
PRODID:ics.py - http://git.io/lLljaA
BEGIN:VEVENT
DTSTART;VALUE=DATE:20260612
DESCRIPTION:Workshop zu Strategie\, Kommunikation und konkreter Umsetzung (Basis-Workshop) | Unterstützungsangebot des StMI\n\nTermin Link: https://www.lfv-bayern.de/termine/social-media-nutzung-durch-die-feuerwehren-basis-workshop-05/
LOCATION:LKr. Dachau
SUMMARY:Social Media Nutzung durch die Feuerwehren - Basis-Workshop
UID:5f33a4e2-9992-4d62-9789-80ca0f651992@5f33.org
END:VEVENT
END:VCALENDAR