BEGIN:VCALENDAR
VERSION:2.0
PRODID:ics.py - http://git.io/lLljaA
BEGIN:VEVENT
DTSTART;VALUE=DATE:20260522
DESCRIPTION:Workshop zu Strategie\, Kommunikation und konkreter Umsetzung (Basis-Workshop) | Unterstützungsangebot des StMI\n\nTermin Link: https://www.lfv-bayern.de/termine/social-media-nutzung-durch-die-feuerwehren-basis-workshop-04/
LOCATION:LKr. Oberallgäu
SUMMARY:Social Media Nutzung durch die Feuerwehren - Basis-Workshop
UID:f1701956-b669-4661-b0d0-b9a0ed09bffc@f170.org
END:VEVENT
END:VCALENDAR