BEGIN:VCALENDAR
VERSION:2.0
PRODID:ics.py - http://git.io/lLljaA
BEGIN:VEVENT
DTSTART;VALUE=DATE:20260704
DESCRIPTION:Workshop zu Strategie\, Kommunikation und konkreter Umsetzung (Aufbau-Workshop) | Unterstützungsangebot des StMI\n\nTermin Link: https://www.lfv-bayern.de/termine/social-media-nutzung-durch-die-feuerwehren-aufbau-workshop-04/
LOCATION:LKr. Tirschenreuth
SUMMARY:Social Media Nutzung durch die Feuerwehren - Aufbau-Workshop
UID:3e29b29a-6695-4744-a793-32a5559080a9@3e29.org
END:VEVENT
END:VCALENDAR