BEGIN:VCALENDAR
VERSION:2.0
PRODID:ics.py - http://git.io/lLljaA
BEGIN:VEVENT
DTSTART;VALUE=DATE:20260703
DESCRIPTION:Workshop zu Strategie\, Kommunikation und konkreter Umsetzung (Aufbau-Workshop) | Unterstützungsangebot des StMI\n\nTermin Link: https://www.lfv-bayern.de/termine/social-media-nutzung-durch-die-feuerwehren-aufbau-workshop-03/
LOCATION:Stadt Nürnberg
SUMMARY:Social Media Nutzung durch die Feuerwehren - Aufbau-Workshop
UID:efec78d2-b511-4a65-ac2a-a73df8292a69@efec.org
END:VEVENT
END:VCALENDAR