BEGIN:VCALENDAR
VERSION:2.0
PRODID:ics.py - http://git.io/lLljaA
BEGIN:VEVENT
DTSTART;VALUE=DATE:20260529
DESCRIPTION:Workshop zu Strategie\, Kommunikation und konkreter Umsetzung (Aufbau-Workshop) | Unterstützungsangebot des StMI\n\nTermin Link: https://www.lfv-bayern.de/termine/social-media-nutzung-durch-die-feuerwehren-aufbau-workshop-02/
LOCATION:LKr. Dillingen
SUMMARY:Social Media Nutzung durch die Feuerwehren - Aufbau-Workshop
UID:06b237c0-25ce-4660-ac73-d61f25bfe2a0@06b2.org
END:VEVENT
END:VCALENDAR