BEGIN:VCALENDAR
VERSION:2.0
PRODID:ics.py - http://git.io/lLljaA
BEGIN:VEVENT
DTSTART;VALUE=DATE:20260506
DTEND;VALUE=DATE:20260509
DESCRIPTION:Leitmesse für Rettung und Mobilität\n\nTermin Link: https://www.lfv-bayern.de/termine/rettmobil-international-2026/
LOCATION:Fulda
SUMMARY:RETTmobil INTERNATIONAL
UID:a90c6680-03dc-4b54-a309-8f1bf877dec1@a90c.org
END:VEVENT
END:VCALENDAR