BEGIN:VCALENDAR
VERSION:2.0
PRODID:ics.py - http://git.io/lLljaA
BEGIN:VEVENT
DESCRIPTION:Online-Veranstaltungsreihe der Mobilen Beratung gegen Rechtsextremismus in Bayern\n\nTermin Link: https://www.lfv-bayern.de/termine/reichsburger-in-bayern-einblicke-in-eine-radikale-bewegung-zwischen-verschworungsideologie-und-umsturzplanen/
DTEND:20260609T180000Z
LOCATION:online
DTSTART:20260609T170000Z
SUMMARY:„Reichsbürger“ in Bayern. Einblicke in eine radikale Bewegung zwischen Verschwörungsideologie und Umsturzplänen
UID:01dadd50-bf6c-4e52-af53-0bbcc144084f@01da.org
END:VEVENT
END:VCALENDAR