BEGIN:VCALENDAR
VERSION:2.0
PRODID:ics.py - http://git.io/lLljaA
BEGIN:VEVENT
DTSTART;VALUE=DATE:20260613
DESCRIPTION:Deutschland Landesmeisterschaften\n\nTermin Link: https://www.lfv-bayern.de/termine/landespokal-rheinland-pfalz-26/
LOCATION:Mainz
SUMMARY:Landespokal Rheinland-Pfalz
UID:525a366c-c714-4124-8b95-2c8d1a2f6ba4@525a.org
END:VEVENT
END:VCALENDAR