BEGIN:VCALENDAR
VERSION:2.0
PRODID:ics.py - http://git.io/lLljaA
BEGIN:VEVENT
DESCRIPTION:Deutschland Landesmeisterschaften\n\nTermin Link: https://www.lfv-bayern.de/termine/landespokal-niedersachsen-26/
DTEND:20260530T170000Z
LOCATION:Asendorf
DTSTART:20260530T070000Z
SUMMARY:Landespokal Niedersachsen
UID:b19e281b-2bf0-4c11-9f39-a7743684f02d@b19e.org
END:VEVENT
END:VCALENDAR