BEGIN:VCALENDAR
VERSION:2.0
PRODID:ics.py - http://git.io/lLljaA
BEGIN:VEVENT
DTSTART;VALUE=DATE:20260919
DESCRIPTION:Deutschland Landesmeisterschaften\n\nTermin Link: https://www.lfv-bayern.de/termine/landespokal-hessen-26/
LOCATION:Gondsroth
SUMMARY:Landespokal Hessen
UID:ec7d51e9-d0ec-4fd3-9a72-3834bbe9a90d@ec7d.org
END:VEVENT
END:VCALENDAR