BEGIN:VCALENDAR
VERSION:2.0
PRODID:ics.py - http://git.io/lLljaA
BEGIN:VEVENT
DTSTART;VALUE=DATE:20260604
DESCRIPTION:Landesbewerbe 2026 Österreich und Südtirol\n\nTermin Link: https://www.lfv-bayern.de/termine/landesbewerb-vorarlberg-26/
LOCATION:Bezau
SUMMARY:Landesbewerb Vorarlberg
UID:ff211758-1a67-4e7e-95a1-4280f62373fc@ff21.org
END:VEVENT
END:VCALENDAR