BEGIN:VCALENDAR
VERSION:2.0
PRODID:ics.py - http://git.io/lLljaA
BEGIN:VEVENT
DTSTART;VALUE=DATE:20260612
DTEND;VALUE=DATE:20260614
DESCRIPTION:Landesbewerbe 2026 Österreich und Südtirol\n\nTermin Link: https://www.lfv-bayern.de/termine/landesbewerb-tirol-26/
LOCATION:Zams
SUMMARY:Landesbewerb Tirol
UID:5aacd453-f7f1-4658-a5e4-fca19ea1403e@5aac.org
END:VEVENT
END:VCALENDAR