BEGIN:VCALENDAR
VERSION:2.0
PRODID:ics.py - http://git.io/lLljaA
BEGIN:VEVENT
DESCRIPTION:Landesbewerbe 2026 Österreich und Südtirol\n\nTermin Link: https://www.lfv-bayern.de/termine/landesbewerb-sudtirol/
DTEND:20260627T173000Z
LOCATION:Klobenstein
DTSTART:20260626T070000Z
SUMMARY:Landesbewerb Südtirol
UID:317bd530-fea6-474c-8a5c-9290ecbddccc@317b.org
END:VEVENT
END:VCALENDAR