BEGIN:VCALENDAR
VERSION:2.0
PRODID:ics.py - http://git.io/lLljaA
BEGIN:VEVENT
DTSTART;VALUE=DATE:20260626
DTEND;VALUE=DATE:20260628
DESCRIPTION:Landesbewerbe 2026 Österreich und Südtirol\n\nTermin Link: https://www.lfv-bayern.de/termine/landesbewerb-steiermark-26/
LOCATION:St. Margarethen an der Raab
SUMMARY:Landesbewerb Steiermark
UID:b8d3e6bb-af76-4cfd-a845-34407400c542@b8d3.org
END:VEVENT
END:VCALENDAR