BEGIN:VCALENDAR
VERSION:2.0
PRODID:ics.py - http://git.io/lLljaA
BEGIN:VEVENT
DTSTART;VALUE=DATE:20260710
DTEND;VALUE=DATE:20260712
DESCRIPTION:Landesbewerbe 2026 Österreich und Südtirol\n\nTermin Link: https://www.lfv-bayern.de/termine/landesbewerb-oberosterreich/
LOCATION:Andorf
SUMMARY:Landesbewerb Oberösterreich
UID:23765b1d-7c5c-44b2-9ade-68dd18d66abc@2376.org
END:VEVENT
END:VCALENDAR