BEGIN:VCALENDAR
VERSION:2.0
PRODID:ics.py - http://git.io/lLljaA
BEGIN:VEVENT
DTSTART;VALUE=DATE:20260703
DTEND;VALUE=DATE:20260706
DESCRIPTION:Landesbewerbe 2026 Österreich und Südtirol\n\nTermin Link: https://www.lfv-bayern.de/termine/landesbewerb-niederosterreich-26/
LOCATION:Zistersdorf
SUMMARY:Landesbewerb Niederösterreich
UID:9ff4fc17-7fa0-46a7-90be-ce123a6a3347@9ff4.org
END:VEVENT
END:VCALENDAR