BEGIN:VCALENDAR
VERSION:2.0
PRODID:ics.py - http://git.io/lLljaA
BEGIN:VEVENT
DTSTART;VALUE=DATE:20260627
DESCRIPTION:Landesbewerbe 2026 Österreich und Südtirol\n\nTermin Link: https://www.lfv-bayern.de/termine/landesbewerb-karnten-26/
LOCATION:Griffen
SUMMARY:Landesbewerb Kärnten
UID:59949e9e-1b4d-4651-9e41-ea70ff5210a4@5994.org
END:VEVENT
END:VCALENDAR