BEGIN:VCALENDAR
VERSION:2.0
PRODID:ics.py - http://git.io/lLljaA
BEGIN:VEVENT
DTSTART;VALUE=DATE:20260703
DTEND;VALUE=DATE:20260705
DESCRIPTION:Landesbewerbe 2026 Österreich und Südtirol\n\nTermin Link: https://www.lfv-bayern.de/termine/landesbewerb-burgenland-26/
LOCATION:Olbendorf
SUMMARY:Landesbewerb Burgenland
UID:db190305-2cf4-4639-a576-faceb348ecdc@db19.org
END:VEVENT
END:VCALENDAR