BEGIN:VCALENDAR
VERSION:2.0
PRODID:ics.py - http://git.io/lLljaA
BEGIN:VEVENT
DESCRIPTION:Online-Veranstaltungsreihe der Mobilen Beratung gegen Rechtsextremismus in Bayern\n\nTermin Link: https://www.lfv-bayern.de/termine/kuche-ehe-vaterland-antifeminismus-und-rechtsextreme-strategien-im-kulturkampf-um-geschlecht-sexualitat-und-familie/
DTEND:20260922T180000Z
LOCATION:online
DTSTART:20260922T170000Z
SUMMARY:Küche\, Ehe\, Vaterland? Antifeminismus und rechtsextreme Strategien im Kulturkampf um Geschlecht\, Sexualität und Familie
UID:27fd41ea-6f58-45b7-9a70-dc9e8e42e0af@27fd.org
END:VEVENT
END:VCALENDAR