BEGIN:VCALENDAR
VERSION:2.0
PRODID:ics.py - http://git.io/lLljaA
BEGIN:VEVENT
DESCRIPTION:Infoveranstaltung zur zivil-militärische Zusammenarbeit in unsicheren Zeiten\n\nTermin Link: https://www.lfv-bayern.de/termine/infoveranstaltung-operationsplan-deutschland/
DTEND:20250219T190000Z
LOCATION:online
DTSTART:20250219T173000Z
SUMMARY:Infoveranstaltung Operationsplan Deutschland
UID:cc612955-9626-421f-8c9c-b31d39c2a4a6@cc61.org
END:VEVENT
END:VCALENDAR