BEGIN:VCALENDAR
VERSION:2.0
PRODID:ics.py - http://git.io/lLljaA
BEGIN:VEVENT
DESCRIPTION:Stress durch die Mehrfachbelastung aus Job\, Ehrenamt\, Familie und ständiger Erreichbarkeit ist ein Risikofaktor für die Gesundheit. Unser Körper reagiert auf Stress. Resilienz ist ein Schutzschild gegen schädigende Einflüsse\, die durch Stress verursacht werden.\n\nTermin Link: https://www.lfv-bayern.de/termine/fuhrungskrafteseminar-resilienz-und-stressmanagement-starke-strategien-fur-herausfordernde-zeiten-bfv-oberbayern/
DTEND:20230913T160000Z
LOCATION:Feuerwehrausbildungszentrum des Landkreises Landsberg a. Lech\, Reischer Straße 1\, 86932 Pürgen
DTSTART:20230913T103000Z
SUMMARY:Führungskräfteseminar „Resilienz- und Stressmanagement – Starke Strategien für herausfordernde Zeiten“ (BFV Oberbayern)
UID:6606cac9-ba2b-41e6-bf40-04c23aeab753@6606.org
END:VEVENT
END:VCALENDAR