BEGIN:VCALENDAR
VERSION:2.0
PRODID:ics.py - http://git.io/lLljaA
BEGIN:VEVENT
DESCRIPTION:Fortbildungsangebot des Landesnetzwerks Bürgerschaftliches Engagement Bayern (LBE)\n\nTermin Link: https://www.lfv-bayern.de/termine/fotos-verwenden-bildbearbeitung-stockfotos-und-lizenzen-26/
DTEND:20260616T173000Z
LOCATION:online
DTSTART:20260616T160000Z
SUMMARY:Fotos verwenden: Bildbearbeitung\, Stockfotos und Lizenzen
UID:15457830-081e-4ffd-8d87-0571cb385c6a@1545.org
END:VEVENT
END:VCALENDAR