BEGIN:VCALENDAR
VERSION:2.0
PRODID:ics.py - http://git.io/lLljaA
BEGIN:VEVENT
DESCRIPTION:Fortbildungsangebot des Landesnetzwerks Bürgerschaftliches Engagement Bayern (LBE)\n\nTermin Link: https://www.lfv-bayern.de/termine/fotos-im-netz-aufnahmen-machen-rechte-klaren-und-online-stellen-26/
DTEND:20260519T173000Z
LOCATION:online
DTSTART:20260519T160000Z
SUMMARY:Fotos im Netz: Aufnahmen machen\, Rechte klären und online stellen
UID:5fd35b03-e1a3-4a88-bb2f-5556118975b1@5fd3.org
END:VEVENT
END:VCALENDAR