BEGIN:VCALENDAR
VERSION:2.0
PRODID:ics.py - http://git.io/lLljaA
BEGIN:VEVENT
DTSTART;VALUE=DATE:20261008
DTEND;VALUE=DATE:20261011
DESCRIPTION:Fachmesse für Feuerwehr\, Zivil- und Katastrophenschutz\n\nTermin Link: https://www.lfv-bayern.de/termine/florian-messe/
LOCATION:Dresden
SUMMARY:Florian Messe
UID:3726ac4d-e220-48e0-94fe-b7b9e5d5d6c4@3726.org
END:VEVENT
END:VCALENDAR