BEGIN:VCALENDAR
VERSION:2.0
PRODID:ics.py - http://git.io/lLljaA
BEGIN:VEVENT
DESCRIPTION:Die Onlinereihe zur Facharbeit im LFV Bayern\n\nTermin Link: https://www.lfv-bayern.de/termine/feuerwehr-mittwoch-0726/
DTEND:20260701T173000Z
LOCATION:online
DTSTART:20260701T160000Z
SUMMARY:Feuerwehr Mittwoch
UID:e85e0981-fc33-4733-9317-9432557740da@e85e.org
END:VEVENT
END:VCALENDAR