BEGIN:VCALENDAR
VERSION:2.0
PRODID:ics.py - http://git.io/lLljaA
BEGIN:VEVENT
DESCRIPTION:Die Onlinereihe zur Facharbeit im LFV Bayern\n\nTermin Link: https://www.lfv-bayern.de/termine/feuerwehr-mittwoch-0626/
DTEND:20260603T173000Z
LOCATION:online
DTSTART:20260603T160000Z
SUMMARY:Feuerwehr Mittwoch
UID:a92243da-a509-4467-8a42-2d86ad9b9d18@a922.org
END:VEVENT
END:VCALENDAR