BEGIN:VCALENDAR
VERSION:2.0
PRODID:ics.py - http://git.io/lLljaA
BEGIN:VEVENT
DESCRIPTION:Die Onlinereihe zur Facharbeit im LFV Bayern\n\nTermin Link: https://www.lfv-bayern.de/termine/feuerwehr-mittwoch-0526/
DTEND:20260506T173000Z
LOCATION:online
DTSTART:20260506T160000Z
SUMMARY:Feuerwehr Mittwoch: "Social Media: Was Feuerwehren wissen sollten"
UID:12dfb8b7-e032-430f-a52a-acdc062204aa@12df.org
END:VEVENT
END:VCALENDAR