BEGIN:VCALENDAR
VERSION:2.0
PRODID:ics.py - http://git.io/lLljaA
BEGIN:VEVENT
DTSTART;VALUE=DATE:20220916
DTEND;VALUE=DATE:20220926
DESCRIPTION:"Helfen ist Trumpf - Tag und Nacht"\n\nTermin Link: https://www.lfv-bayern.de/termine/feuerwehr-aktionswoche-2022/
LOCATION:bayernweit
SUMMARY:Feuerwehr-Aktionswoche 2022
UID:755525f8-7fb7-4819-9f39-b21c02c1135f@7555.org
END:VEVENT
END:VCALENDAR